BEGIN:VCALENDAR
VERSION:2.0
PRODID:-//Tukios.com/
BEGIN:VEVENT
UID:97f37fd3-c978-459d-94eb-0310e103fc4d@www.konrad-behlman.com
DTSTAMP:20260421T162548Z
DTSTART:20260427T150000Z
DTEND:20260427T160000Z
SUMMARY:Funeral Service
DESCRIPTION:
URL:https://www.konrad-behlman.com/obituaries/joanne-stecker
LOCATION:Peace Lutheran Church 240 W 9th Ave  Oshkosh WI 54902
GEO:44.0107354;-88.5433145
END:VEVENT
END:VCALENDAR