BEGIN:VCALENDAR
VERSION:2.0
PRODID:-//Tukios.com/
BEGIN:VEVENT
UID:086d735c-dace-46f4-9e97-ecc4aa3752c2@www.konrad-behlman.com
DTSTAMP:20260421T162543Z
DTSTART:20260427T140000Z
DTEND:20260427T150000Z
SUMMARY:Visitation
DESCRIPTION:
URL:https://www.konrad-behlman.com/obituaries/joanne-stecker
LOCATION:Peace Lutheran Church 240 W 9th Ave  Oshkosh WI 54902
GEO:44.0107354;-88.5433145
END:VEVENT
END:VCALENDAR